BEGIN:VCALENDAR
VERSION:2.0
PRODID:-//Atlantic Rhododendron &amp; Horticultural Society - ECPv6.15.20//NONSGML v1.0//EN
CALSCALE:GREGORIAN
METHOD:PUBLISH
X-ORIGINAL-URL:https://atlanticrhodo.org
X-WR-CALDESC:Events for Atlantic Rhododendron &amp; Horticultural Society
REFRESH-INTERVAL;VALUE=DURATION:PT1H
X-Robots-Tag:noindex
X-PUBLISHED-TTL:PT1H
BEGIN:VTIMEZONE
TZID:America/Halifax
BEGIN:DAYLIGHT
TZOFFSETFROM:-0400
TZOFFSETTO:-0300
TZNAME:ADT
DTSTART:20250309T060000
END:DAYLIGHT
BEGIN:STANDARD
TZOFFSETFROM:-0300
TZOFFSETTO:-0400
TZNAME:AST
DTSTART:20251102T050000
END:STANDARD
BEGIN:DAYLIGHT
TZOFFSETFROM:-0400
TZOFFSETTO:-0300
TZNAME:ADT
DTSTART:20260308T060000
END:DAYLIGHT
BEGIN:STANDARD
TZOFFSETFROM:-0300
TZOFFSETTO:-0400
TZNAME:AST
DTSTART:20261101T050000
END:STANDARD
BEGIN:DAYLIGHT
TZOFFSETFROM:-0400
TZOFFSETTO:-0300
TZNAME:ADT
DTSTART:20270314T060000
END:DAYLIGHT
BEGIN:STANDARD
TZOFFSETFROM:-0300
TZOFFSETTO:-0400
TZNAME:AST
DTSTART:20271107T050000
END:STANDARD
END:VTIMEZONE
BEGIN:VEVENT
DTSTART;TZID=America/Halifax:20260303T193000
DTEND;TZID=America/Halifax:20260303T210000
DTSTAMP:20260419T133358
CREATED:20251231T184324Z
LAST-MODIFIED:20260301T003349Z
UID:2991-1772566200-1772571600@atlanticrhodo.org
SUMMARY:ARHS March 2026 Presentation:  "The Smallest Rhododendrons"\, Mike Stewart\, ARS Portland Oregon Chapter
DESCRIPTION:From his extensive experience growing smaller Rhododendrons\, Mike shows the habitat that many of the smaller Rhodos are found in China\, how  to duplicate these conditions in a nursery and techniques for propagation  of the smaller Rhodos.  As many of these plants are from  cooler\, higher altitudes\, our relatively cool  summer temperatures in Atlantic  Canada lets us grow a wide selection of these plants. \nMike Stewart owned Dover Nursery\, an  important Rhododendron  Nursery near Portland OR.   A former President of  both the American Rhododendron  Society and the Rhododendron Species Foundation\,  Mike is involved with the renovations and renewal of Van Veen  Nursery. \nDwarf Rhododendrons 2017 info \nDwarf Rhododendrons definations
URL:https://atlanticrhodo.org/event/arhs-march-2026-presentation-the-smallest-rhododendrons-mike-stewart-ars-portland-oregon-chapter/
LOCATION:Zoom Meeting
ORGANIZER;CN="Jim Sharpe":MAILTO:atlanticrhodo@gmail.com
END:VEVENT
END:VCALENDAR