BEGIN:VCALENDAR
VERSION:2.0
PRODID:-//Atlantic Rhododendron &amp; Horticultural Society - ECPv6.15.20//NONSGML v1.0//EN
CALSCALE:GREGORIAN
METHOD:PUBLISH
X-WR-CALNAME:Atlantic Rhododendron &amp; Horticultural Society
X-ORIGINAL-URL:https://atlanticrhodo.org
X-WR-CALDESC:Events for Atlantic Rhododendron &amp; Horticultural Society
REFRESH-INTERVAL;VALUE=DURATION:PT1H
X-Robots-Tag:noindex
X-PUBLISHED-TTL:PT1H
BEGIN:VTIMEZONE
TZID:America/Halifax
BEGIN:DAYLIGHT
TZOFFSETFROM:-0400
TZOFFSETTO:-0300
TZNAME:ADT
DTSTART:20250309T060000
END:DAYLIGHT
BEGIN:STANDARD
TZOFFSETFROM:-0300
TZOFFSETTO:-0400
TZNAME:AST
DTSTART:20251102T050000
END:STANDARD
BEGIN:DAYLIGHT
TZOFFSETFROM:-0400
TZOFFSETTO:-0300
TZNAME:ADT
DTSTART:20260308T060000
END:DAYLIGHT
BEGIN:STANDARD
TZOFFSETFROM:-0300
TZOFFSETTO:-0400
TZNAME:AST
DTSTART:20261101T050000
END:STANDARD
BEGIN:DAYLIGHT
TZOFFSETFROM:-0400
TZOFFSETTO:-0300
TZNAME:ADT
DTSTART:20270314T060000
END:DAYLIGHT
BEGIN:STANDARD
TZOFFSETFROM:-0300
TZOFFSETTO:-0400
TZNAME:AST
DTSTART:20271107T050000
END:STANDARD
END:VTIMEZONE
BEGIN:VEVENT
DTSTART;TZID=America/Halifax:20260203T193000
DTEND;TZID=America/Halifax:20260203T210000
DTSTAMP:20260419T120940
CREATED:20251208T010117Z
LAST-MODIFIED:20251231T183906Z
UID:2975-1770147000-1770152400@atlanticrhodo.org
SUMMARY:ARHS February Presentation 2026:  Gravel Garden at Chanticleer\, Lisa Roper\, Senior Horticulturalist
DESCRIPTION:For the past thirteen years\, Lisa Roper has managed the Gravel Garden at the renowned public garden Chanticleer in Wayne\, Pennsylvania. A gently sloping site planted with a mix of fine textured grasses\, gray-leafed Mediterranean plants\, drought tolerant perennials\, annuals grown from seed\, and hardy succulents\, the gravel garden is a stunning and unique landscape. Ms. Roper will discuss how form\, texture\, color\, and rhythm are carefully considered in her design choices. She will introduce some of her favorite plants\, cover planting techniques\, the importance of “editing\,” and the technique of using photography to inform design decisions. \n  \nThe Zoom link will be sent to ARHS members the week before the presentation.  For further information\, contact Jim Sharpe at Atlanticrhodo@gmail.com
URL:https://atlanticrhodo.org/event/arhs-february-presentation-gravel-garden-at-chanticleer-lisa-roper-senior-horticulturalist/
LOCATION:Zoom Meeting
ORGANIZER;CN="Jim Sharpe":MAILTO:atlanticrhodo@gmail.com
END:VEVENT
END:VCALENDAR