BEGIN:VCALENDAR
VERSION:2.0
PRODID:-//Atlantic Rhododendron &amp; Horticultural Society - ECPv6.15.20//NONSGML v1.0//EN
CALSCALE:GREGORIAN
METHOD:PUBLISH
X-ORIGINAL-URL:http://atlanticrhodo.org
X-WR-CALDESC:Events for Atlantic Rhododendron &amp; Horticultural Society
REFRESH-INTERVAL;VALUE=DURATION:PT1H
X-Robots-Tag:noindex
X-PUBLISHED-TTL:PT1H
BEGIN:VTIMEZONE
TZID:America/Halifax
BEGIN:DAYLIGHT
TZOFFSETFROM:-0400
TZOFFSETTO:-0300
TZNAME:ADT
DTSTART:20230312T060000
END:DAYLIGHT
BEGIN:STANDARD
TZOFFSETFROM:-0300
TZOFFSETTO:-0400
TZNAME:AST
DTSTART:20231105T050000
END:STANDARD
BEGIN:DAYLIGHT
TZOFFSETFROM:-0400
TZOFFSETTO:-0300
TZNAME:ADT
DTSTART:20240310T060000
END:DAYLIGHT
BEGIN:STANDARD
TZOFFSETFROM:-0300
TZOFFSETTO:-0400
TZNAME:AST
DTSTART:20241103T050000
END:STANDARD
BEGIN:DAYLIGHT
TZOFFSETFROM:-0400
TZOFFSETTO:-0300
TZNAME:ADT
DTSTART:20250309T060000
END:DAYLIGHT
BEGIN:STANDARD
TZOFFSETFROM:-0300
TZOFFSETTO:-0400
TZNAME:AST
DTSTART:20251102T050000
END:STANDARD
END:VTIMEZONE
BEGIN:VEVENT
DTSTART;TZID=America/Halifax:20240402T193000
DTEND;TZID=America/Halifax:20240402T203000
DTSTAMP:20260420T003951
CREATED:20240203T002204Z
LAST-MODIFIED:20240203T003513Z
UID:2635-1712086200-1712089800@atlanticrhodo.org
SUMMARY:ARHS April 2024 Presentation: “Naturalization Strategies for Gardeners”\, a panel discussion
DESCRIPTION:Chair Jim Sharpe\, Panel Members  Anita Jackson and Nina Newington \nInterested in native  plants\, pollinator gardens and meadow gardens? This panel will present  the experience  of ARHS horticulturalists  with  naturalization strategies  for transforming  gardens to include native plants\,  pollinating insects  and self-sustaining meadows.  Anita Jackson  and  Nina  Newington  are ARHS members  and garden designers who have presented to ARHS before. \nJoin us at the Nova Scotia Museum of Natural History or by Zoom.  The Zoom link will be sent out by email.  For further information\, contact Jim Sharpe at Atlanticrhodo@gmail.com
URL:http://atlanticrhodo.org/event/arhs-april-presentation/
LOCATION:Nova Scotia Museum of Natural History\, 1747 Summer St.\, Halifax\, Nova Scotia\, Canada
ORGANIZER;CN="Jim Sharpe":MAILTO:atlanticrhodo@gmail.com
END:VEVENT
END:VCALENDAR