BEGIN:VCALENDAR
VERSION:2.0
PRODID:-//Atlantic Rhododendron &amp; Horticultural Society - ECPv6.15.20//NONSGML v1.0//EN
CALSCALE:GREGORIAN
METHOD:PUBLISH
X-WR-CALNAME:Atlantic Rhododendron &amp; Horticultural Society
X-ORIGINAL-URL:http://atlanticrhodo.org
X-WR-CALDESC:Events for Atlantic Rhododendron &amp; Horticultural Society
REFRESH-INTERVAL;VALUE=DURATION:PT1H
X-Robots-Tag:noindex
X-PUBLISHED-TTL:PT1H
BEGIN:VTIMEZONE
TZID:America/Halifax
BEGIN:DAYLIGHT
TZOFFSETFROM:-0400
TZOFFSETTO:-0300
TZNAME:ADT
DTSTART:20230312T060000
END:DAYLIGHT
BEGIN:STANDARD
TZOFFSETFROM:-0300
TZOFFSETTO:-0400
TZNAME:AST
DTSTART:20231105T050000
END:STANDARD
BEGIN:DAYLIGHT
TZOFFSETFROM:-0400
TZOFFSETTO:-0300
TZNAME:ADT
DTSTART:20240310T060000
END:DAYLIGHT
BEGIN:STANDARD
TZOFFSETFROM:-0300
TZOFFSETTO:-0400
TZNAME:AST
DTSTART:20241103T050000
END:STANDARD
BEGIN:DAYLIGHT
TZOFFSETFROM:-0400
TZOFFSETTO:-0300
TZNAME:ADT
DTSTART:20250309T060000
END:DAYLIGHT
BEGIN:STANDARD
TZOFFSETFROM:-0300
TZOFFSETTO:-0400
TZNAME:AST
DTSTART:20251102T050000
END:STANDARD
END:VTIMEZONE
BEGIN:VEVENT
DTSTART;TZID=America/Halifax:20240305T193000
DTEND;TZID=America/Halifax:20240305T203000
DTSTAMP:20260419T230921
CREATED:20231203T234511Z
LAST-MODIFIED:20231204T000523Z
UID:2587-1709667000-1709670600@atlanticrhodo.org
SUMMARY:ARHS March 2024 Presentation: Namaqualand Superbloom\, Freeman Patterson\, Photographer
DESCRIPTION:Namaqualand Superbloom \nA few times each century the  wild flowers of Namaqualand South Africa\, experience a “SuperBloom.”  Our ARHS rhodo gardener and landscape photographer Freeman Patterson received a phone call in June 2023 that it had been a wet winter in Namaqualand and a SuperBloom was immanent.  A few weeks later he was on a plane to photograph this wonderful natural beauty. At our March 5\, 2024  meeting will share some the images from his trip by Zoom.  See \nhttp://freemanpatterson.com/newsletters-SuperBloom-Oct2023.htm and http://freemanpatterson.com/documents/newsletters/FreemanPattersonOct2023.pdf \nJoin us at the Nova Scotia Museum of Natural History or by Zoom.  The Zoom link will be sent out by email.  For further information\, contact Jim Sharpe at Atlanticrhodo@gmail.com
URL:http://atlanticrhodo.org/event/arhs-march-2023-presentation-namaqualand-superbloom-freeman-patterson-photographer/
LOCATION:Nova Scotia Museum of Natural History\, 1747 Summer St.\, Halifax\, Nova Scotia\, Canada
ORGANIZER;CN="Jim Sharpe":MAILTO:atlanticrhodo@gmail.com
END:VEVENT
END:VCALENDAR