BEGIN:VCALENDAR
VERSION:2.0
PRODID:-//Atlantic Rhododendron &amp; Horticultural Society - ECPv6.15.20//NONSGML v1.0//EN
CALSCALE:GREGORIAN
METHOD:PUBLISH
X-WR-CALNAME:Atlantic Rhododendron &amp; Horticultural Society
X-ORIGINAL-URL:http://atlanticrhodo.org
X-WR-CALDESC:Events for Atlantic Rhododendron &amp; Horticultural Society
REFRESH-INTERVAL;VALUE=DURATION:PT1H
X-Robots-Tag:noindex
X-PUBLISHED-TTL:PT1H
BEGIN:VTIMEZONE
TZID:America/Halifax
BEGIN:DAYLIGHT
TZOFFSETFROM:-0400
TZOFFSETTO:-0300
TZNAME:ADT
DTSTART:20230312T060000
END:DAYLIGHT
BEGIN:STANDARD
TZOFFSETFROM:-0300
TZOFFSETTO:-0400
TZNAME:AST
DTSTART:20231105T050000
END:STANDARD
BEGIN:DAYLIGHT
TZOFFSETFROM:-0400
TZOFFSETTO:-0300
TZNAME:ADT
DTSTART:20240310T060000
END:DAYLIGHT
BEGIN:STANDARD
TZOFFSETFROM:-0300
TZOFFSETTO:-0400
TZNAME:AST
DTSTART:20241103T050000
END:STANDARD
BEGIN:DAYLIGHT
TZOFFSETFROM:-0400
TZOFFSETTO:-0300
TZNAME:ADT
DTSTART:20250309T060000
END:DAYLIGHT
BEGIN:STANDARD
TZOFFSETFROM:-0300
TZOFFSETTO:-0400
TZNAME:AST
DTSTART:20251102T050000
END:STANDARD
END:VTIMEZONE
BEGIN:VEVENT
DTSTART;TZID=America/Halifax:20240206T193000
DTEND;TZID=America/Halifax:20240206T203000
DTSTAMP:20260420T000529
CREATED:20231203T233453Z
LAST-MODIFIED:20231204T000217Z
UID:2585-1707247800-1707251400@atlanticrhodo.org
SUMMARY:ARHS February 2024 Presentation: Native Azaleas\, Tara Spears\, Jenkins Arboretum & Gardens
DESCRIPTION:Native Azaleas\, Tara Spears\, Jenkins Arboretum & Gardens \nTara Spears is the Curatorial Assistant at Jenkins Arboretum & Gardens and works closely with their Nationally Accredited Rhododendron Collections. She is also a graduate student at the University of Pennsylvania where she studies Environmental Science\, and is conducting research with Rhododendron smokianum\, a newly described species of Rhododendron in the Great Smoky Mountains National Park. She presented at the American Rhododendron Society and Azalea Society of America National Convention in 2023\, is co-organizer of the Early-Career Rhododendron Research Conference in 2024\, and is co-organizing the Azalea Society of America National Convention in 2025. \nNorth America is home to many native Rhododendron sect. Pentanthera species\, commonly referred to as native azaleas. They are primarily found in the eastern United States\, but can range from Canada to California\, too. This presentation explores the different species\, their ranges\, and popular selections. \nJoin us at the Nova Scotia Museum of Natural History or by Zoom.  The Zoom link will be sent out by email.  For further information\, contact Jim Sharpe at Atlanticrhodo@gmail.com
URL:http://atlanticrhodo.org/event/arhs-february-2023-presentation-native-azaleas-tara-spears-jenkins-arboretum-gardens/
LOCATION:Nova Scotia Museum of Natural History\, 1747 Summer St.\, Halifax\, Nova Scotia\, Canada
ORGANIZER;CN="Jim Sharpe":MAILTO:atlanticrhodo@gmail.com
END:VEVENT
END:VCALENDAR