BEGIN:VCALENDAR
VERSION:2.0
PRODID:-//Atlantic Rhododendron &amp; Horticultural Society - ECPv6.15.20//NONSGML v1.0//EN
CALSCALE:GREGORIAN
METHOD:PUBLISH
X-WR-CALNAME:Atlantic Rhododendron &amp; Horticultural Society
X-ORIGINAL-URL:http://atlanticrhodo.org
X-WR-CALDESC:Events for Atlantic Rhododendron &amp; Horticultural Society
REFRESH-INTERVAL;VALUE=DURATION:PT1H
X-Robots-Tag:noindex
X-PUBLISHED-TTL:PT1H
BEGIN:VTIMEZONE
TZID:America/Halifax
BEGIN:DAYLIGHT
TZOFFSETFROM:-0400
TZOFFSETTO:-0300
TZNAME:ADT
DTSTART:20190310T060000
END:DAYLIGHT
BEGIN:STANDARD
TZOFFSETFROM:-0300
TZOFFSETTO:-0400
TZNAME:AST
DTSTART:20191103T050000
END:STANDARD
BEGIN:DAYLIGHT
TZOFFSETFROM:-0400
TZOFFSETTO:-0300
TZNAME:ADT
DTSTART:20200308T060000
END:DAYLIGHT
BEGIN:STANDARD
TZOFFSETFROM:-0300
TZOFFSETTO:-0400
TZNAME:AST
DTSTART:20201101T050000
END:STANDARD
BEGIN:DAYLIGHT
TZOFFSETFROM:-0400
TZOFFSETTO:-0300
TZNAME:ADT
DTSTART:20210314T060000
END:DAYLIGHT
BEGIN:STANDARD
TZOFFSETFROM:-0300
TZOFFSETTO:-0400
TZNAME:AST
DTSTART:20211107T050000
END:STANDARD
END:VTIMEZONE
BEGIN:VEVENT
DTSTART;TZID=America/Halifax:20200303T180000
DTEND;TZID=America/Halifax:20200303T190000
DTSTAMP:20260424T031729
CREATED:20200130T131832Z
LAST-MODIFIED:20200130T131832Z
UID:2004-1583258400-1583262000@atlanticrhodo.org
SUMMARY:Introduction to Rhododendrons and Companion Plants
DESCRIPTION:Cora Swinamer will be offering a PowerPoint presentation developed for ARHS several years ago. It will be beneficial for new members and members of the public who would like to know more about using Rhodos in their landscape.  The intro will cover plant selection\, site selection\, general care/feeding as well as information on pruning and pests.  The relaxed format will offer opportunity for questions and discussion.  All are welcome. \nFollowing this presentation will be the regular monthly meeting of ARHS where Cora will be presenting an overview of her trip to Brazil and gardens she visited.
URL:http://atlanticrhodo.org/event/introduction-to-rhododendrons-and-companion-plants/
LOCATION:Nova Scotia Museum of Natural History\, 1747 Summer St.\, Halifax\, Nova Scotia\, Canada
CATEGORIES:Speakers
ATTACH;FMTTYPE=image/jpeg:http://atlanticrhodo.org/wp-content/uploads/2014/04/header-6.jpg
END:VEVENT
BEGIN:VEVENT
DTSTART;TZID=America/Halifax:20200303T193000
DTEND;TZID=America/Halifax:20200303T210000
DTSTAMP:20260424T031729
CREATED:20191212T151000Z
LAST-MODIFIED:20191212T151000Z
UID:1995-1583263800-1583269200@atlanticrhodo.org
SUMMARY:Brazil - Garden Travel
DESCRIPTION:Brazil – Garden Travel.  Cora Swinamer\, past president of our club and garden designer\, will show us some impressive pictures of gardens from Brazil\, including visits to gardens of Roberto Burle Marx.
URL:http://atlanticrhodo.org/event/brazil-garden-travel/
LOCATION:Nova Scotia Museum of Natural History\, 1747 Summer St.\, Halifax\, Nova Scotia\, Canada
CATEGORIES:Speakers
ATTACH;FMTTYPE=image/jpeg:http://atlanticrhodo.org/wp-content/uploads/2019/12/20181027_080039-scaled.jpg
END:VEVENT
END:VCALENDAR