BEGIN:VCALENDAR
VERSION:2.0
PRODID:-//Atlantic Rhododendron &amp; Horticultural Society - ECPv6.15.20//NONSGML v1.0//EN
CALSCALE:GREGORIAN
METHOD:PUBLISH
X-WR-CALNAME:Atlantic Rhododendron &amp; Horticultural Society
X-ORIGINAL-URL:http://atlanticrhodo.org
X-WR-CALDESC:Events for Atlantic Rhododendron &amp; Horticultural Society
REFRESH-INTERVAL;VALUE=DURATION:PT1H
X-Robots-Tag:noindex
X-PUBLISHED-TTL:PT1H
BEGIN:VTIMEZONE
TZID:America/Halifax
BEGIN:DAYLIGHT
TZOFFSETFROM:-0400
TZOFFSETTO:-0300
TZNAME:ADT
DTSTART:20190310T060000
END:DAYLIGHT
BEGIN:STANDARD
TZOFFSETFROM:-0300
TZOFFSETTO:-0400
TZNAME:AST
DTSTART:20191103T050000
END:STANDARD
BEGIN:DAYLIGHT
TZOFFSETFROM:-0400
TZOFFSETTO:-0300
TZNAME:ADT
DTSTART:20200308T060000
END:DAYLIGHT
BEGIN:STANDARD
TZOFFSETFROM:-0300
TZOFFSETTO:-0400
TZNAME:AST
DTSTART:20201101T050000
END:STANDARD
BEGIN:DAYLIGHT
TZOFFSETFROM:-0400
TZOFFSETTO:-0300
TZNAME:ADT
DTSTART:20210314T060000
END:DAYLIGHT
BEGIN:STANDARD
TZOFFSETFROM:-0300
TZOFFSETTO:-0400
TZNAME:AST
DTSTART:20211107T050000
END:STANDARD
END:VTIMEZONE
BEGIN:VEVENT
DTSTART;TZID=America/Halifax:20200204T193000
DTEND;TZID=America/Halifax:20200204T210000
DTSTAMP:20260424T044707
CREATED:20190915T135141Z
LAST-MODIFIED:20191212T145244Z
UID:1980-1580844600-1580850000@atlanticrhodo.org
SUMMARY:Preview of Members Pre-Ordered Plant Sale and Tissue Culture Sale
DESCRIPTION:Preview of Advance Order Plant Sale.  Lynn Rotin\, our club’s volunteer coordinator and organizer of our Advance Order Plant Sale\, will show pictures and give highlights of many of the plants available in this year’s sale.  Come and make your wish list for the spring sale! \n 
URL:http://atlanticrhodo.org/event/preview-of-members-pre-ordered-plant-sale-and-tissue-culture-sale/
LOCATION:Nova Scotia Museum of Natural History\, 1747 Summer St.\, Halifax\, Nova Scotia\, Canada
CATEGORIES:Plant Sale,Speakers
END:VEVENT
END:VCALENDAR