BEGIN:VCALENDAR
VERSION:2.0
PRODID:-//Atlantic Rhododendron &amp; Horticultural Society - ECPv6.15.20//NONSGML v1.0//EN
CALSCALE:GREGORIAN
METHOD:PUBLISH
X-WR-CALNAME:Atlantic Rhododendron &amp; Horticultural Society
X-ORIGINAL-URL:http://atlanticrhodo.org
X-WR-CALDESC:Events for Atlantic Rhododendron &amp; Horticultural Society
REFRESH-INTERVAL;VALUE=DURATION:PT1H
X-Robots-Tag:noindex
X-PUBLISHED-TTL:PT1H
BEGIN:VTIMEZONE
TZID:America/Halifax
BEGIN:DAYLIGHT
TZOFFSETFROM:-0400
TZOFFSETTO:-0300
TZNAME:ADT
DTSTART:20180311T060000
END:DAYLIGHT
BEGIN:STANDARD
TZOFFSETFROM:-0300
TZOFFSETTO:-0400
TZNAME:AST
DTSTART:20181104T050000
END:STANDARD
BEGIN:DAYLIGHT
TZOFFSETFROM:-0400
TZOFFSETTO:-0300
TZNAME:ADT
DTSTART:20190310T060000
END:DAYLIGHT
BEGIN:STANDARD
TZOFFSETFROM:-0300
TZOFFSETTO:-0400
TZNAME:AST
DTSTART:20191103T050000
END:STANDARD
BEGIN:DAYLIGHT
TZOFFSETFROM:-0400
TZOFFSETTO:-0300
TZNAME:ADT
DTSTART:20200308T060000
END:DAYLIGHT
BEGIN:STANDARD
TZOFFSETFROM:-0300
TZOFFSETTO:-0400
TZNAME:AST
DTSTART:20201101T050000
END:STANDARD
END:VTIMEZONE
BEGIN:VEVENT
DTSTART;TZID=America/Halifax:20190305T193000
DTEND;TZID=America/Halifax:20190305T213000
DTSTAMP:20260420T064314
CREATED:20181111T155827Z
LAST-MODIFIED:20181111T155827Z
UID:1872-1551814200-1551821400@atlanticrhodo.org
SUMMARY:The Himalayan Gardens of Western Scotland
DESCRIPTION:The Himalayan Gardens of Western Scotland \nPresenter:  John Brett \nProgram description: \nA tour of impressive garden landscapes and the extraordinary plants within\, including rhododendrons collected by some of the great plant hunters of the late 19th and the 20th centuries. The following Scottish gardens were visited and photographed in May 2016:  Branklyn\, Benmore\, Crarae\, Arduaine\, An Cala\, Cluny and Ardmaddy . Some of these will be the focus of this presentation \nBio: \nJohn is a long-time club member and out current President.  He gardens in Halifax and at Morris Island near Yarmouth.
URL:http://atlanticrhodo.org/event/the-himalayan-gardens-of-western-scotland/
LOCATION:Nova Scotia Museum of Natural History\, 1747 Summer St.\, Halifax\, Nova Scotia\, Canada
END:VEVENT
BEGIN:VEVENT
DTSTART;TZID=America/Halifax:20190307T190000
DTEND;TZID=America/Halifax:20190307T210000
DTSTAMP:20260420T064314
CREATED:20190202T215148Z
LAST-MODIFIED:20190202T215240Z
UID:1904-1551985200-1551992400@atlanticrhodo.org
SUMMARY:Five Seasons: The Gardens of Piet Oudolf - a documentary film
DESCRIPTION:Oudolf film poster \nThis is a documentary ﬁlm being shown as a Fundraiser for Hospice Halifax Thursday\, March 7\, 2019 The Music Room\, Lady Hammond Road Screening starts at 7pm — doors open at 6:30 admission is by donation at the door. \nSponsors for this event are ARHS\, Sun & Water Horticultural and 14 Bells Fine Art. 
URL:http://atlanticrhodo.org/event/five-seasons-the-gardens-of-piet-oudolf-a-documentary-film/
LOCATION:The Music Room\, 6181 Lady Hammond Rd\, Halifax\, NS\, B3K 2R9\, Canada
END:VEVENT
BEGIN:VEVENT
DTSTART;TZID=America/Halifax:20190310T080000
DTEND;TZID=America/Halifax:20190310T170000
DTSTAMP:20260420T064314
CREATED:20190224T123104Z
LAST-MODIFIED:20190228T132335Z
UID:1913-1552204800-1552237200@atlanticrhodo.org
SUMMARY:Pre-ordered Plant Sale 2019
DESCRIPTION:Deadline for orders has been extended to March 10th\, 2019 \n 
URL:http://atlanticrhodo.org/event/pre-ordered-plant-sale/
END:VEVENT
BEGIN:VEVENT
DTSTART;TZID=America/Halifax:20190319T080000
DTEND;TZID=America/Halifax:20190319T170000
DTSTAMP:20260420T064314
CREATED:20190121T180907Z
LAST-MODIFIED:20190121T180907Z
UID:1898-1552982400-1553014800@atlanticrhodo.org
SUMMARY:Deadline for Tissue Culture Order is today!
DESCRIPTION:Please ensure Dennis Crouse has your order by today so you don’t miss out on the fabulous collections in this years offering.
URL:http://atlanticrhodo.org/event/deadline-for-tissue-culture-order-is-today/
END:VEVENT
END:VCALENDAR