BEGIN:VCALENDAR
VERSION:2.0
PRODID:-//Atlantic Rhododendron &amp; Horticultural Society - ECPv6.15.20//NONSGML v1.0//EN
CALSCALE:GREGORIAN
METHOD:PUBLISH
X-WR-CALNAME:Atlantic Rhododendron &amp; Horticultural Society
X-ORIGINAL-URL:http://atlanticrhodo.org
X-WR-CALDESC:Events for Atlantic Rhododendron &amp; Horticultural Society
REFRESH-INTERVAL;VALUE=DURATION:PT1H
X-Robots-Tag:noindex
X-PUBLISHED-TTL:PT1H
BEGIN:VTIMEZONE
TZID:America/Halifax
BEGIN:DAYLIGHT
TZOFFSETFROM:-0400
TZOFFSETTO:-0300
TZNAME:ADT
DTSTART:20180311T060000
END:DAYLIGHT
BEGIN:STANDARD
TZOFFSETFROM:-0300
TZOFFSETTO:-0400
TZNAME:AST
DTSTART:20181104T050000
END:STANDARD
BEGIN:DAYLIGHT
TZOFFSETFROM:-0400
TZOFFSETTO:-0300
TZNAME:ADT
DTSTART:20190310T060000
END:DAYLIGHT
BEGIN:STANDARD
TZOFFSETFROM:-0300
TZOFFSETTO:-0400
TZNAME:AST
DTSTART:20191103T050000
END:STANDARD
BEGIN:DAYLIGHT
TZOFFSETFROM:-0400
TZOFFSETTO:-0300
TZNAME:ADT
DTSTART:20200308T060000
END:DAYLIGHT
BEGIN:STANDARD
TZOFFSETFROM:-0300
TZOFFSETTO:-0400
TZNAME:AST
DTSTART:20201101T050000
END:STANDARD
END:VTIMEZONE
BEGIN:VEVENT
DTSTART;TZID=America/Halifax:20190205T193000
DTEND;TZID=America/Halifax:20190205T213000
DTSTAMP:20260420T081924
CREATED:20190102T163114Z
LAST-MODIFIED:20190102T163219Z
UID:1881-1549395000-1549402200@atlanticrhodo.org
SUMMARY:Selecting for Late Blooming Deciduous Azalea: Ed Reekie
DESCRIPTION:Selecting for Late Blooming Deciduous Azaleas\nIn Nova Scotia\, deciduous azaleas put on a spectacular floral display in spring\, but we have a much smaller selection of cultivars available in our area that bloom during the summer. There are several deciduous azaleas species native to south eastern North America that flower during the summer or fall. Several selections have been developed using these species that are well adapted to Nova Scotia. These cultivars\, although lovely in themselves\, lack the large flower & truss size found in our spring blooming cultivars and have not achieved the same popularity as their spring blooming cousins. In this talk\, I will discuss some of the obstacles involved in developing late flowering deciduous azaleas with the spectacular floral traits of our spring blooming azaleas. I will also outline the approach I am taking to try and overcome these obstacles. \nBio\nEd Reekie has a B.Sc. in Agriculture and a M.Sc. in Plant Ecology from the University of Saskatchewan\, and a Ph.D. in Botany from the University of Illinois. He taught and conducted research in the Biology Department at Acadia University from 1985 till his retirement in 2013. Research interests at Acadia included plant reproductive ecology\, the response of plants to rising atmospheric carbon dioxide concentrations\, and the factors limiting rare and endangered plants in Nova Scotia. Although he has been growing Rhododendrons in his garden for a number of years\, his interest in Rhododendron breeding is a recently developed passion.
URL:http://atlanticrhodo.org/event/selecting-for-late-blooming-deciduous-azalea-ed-reekie/
LOCATION:Nova Scotia Museum of Natural History\, 1747 Summer St.\, Halifax\, Nova Scotia\, Canada
END:VEVENT
END:VCALENDAR