BEGIN:VCALENDAR
VERSION:2.0
PRODID:-//Atlantic Rhododendron &amp; Horticultural Society - ECPv6.15.20//NONSGML v1.0//EN
CALSCALE:GREGORIAN
METHOD:PUBLISH
X-ORIGINAL-URL:http://atlanticrhodo.org
X-WR-CALDESC:Events for Atlantic Rhododendron &amp; Horticultural Society
REFRESH-INTERVAL;VALUE=DURATION:PT1H
X-Robots-Tag:noindex
X-PUBLISHED-TTL:PT1H
BEGIN:VTIMEZONE
TZID:America/Halifax
BEGIN:DAYLIGHT
TZOFFSETFROM:-0400
TZOFFSETTO:-0300
TZNAME:ADT
DTSTART:20180311T060000
END:DAYLIGHT
BEGIN:STANDARD
TZOFFSETFROM:-0300
TZOFFSETTO:-0400
TZNAME:AST
DTSTART:20181104T050000
END:STANDARD
BEGIN:DAYLIGHT
TZOFFSETFROM:-0400
TZOFFSETTO:-0300
TZNAME:ADT
DTSTART:20190310T060000
END:DAYLIGHT
BEGIN:STANDARD
TZOFFSETFROM:-0300
TZOFFSETTO:-0400
TZNAME:AST
DTSTART:20191103T050000
END:STANDARD
BEGIN:DAYLIGHT
TZOFFSETFROM:-0400
TZOFFSETTO:-0300
TZNAME:ADT
DTSTART:20200308T060000
END:DAYLIGHT
BEGIN:STANDARD
TZOFFSETFROM:-0300
TZOFFSETTO:-0400
TZNAME:AST
DTSTART:20201101T050000
END:STANDARD
END:VTIMEZONE
BEGIN:VEVENT
DTSTART;TZID=America/Halifax:20190102T193000
DTEND;TZID=America/Halifax:20190102T213000
DTSTAMP:20260420T100422
CREATED:20181111T160424Z
LAST-MODIFIED:20181112T140922Z
UID:1874-1546457400-1546464600@atlanticrhodo.org
SUMMARY:Wildflowers - the work of William C. McCalla
DESCRIPTION:Program description: \nThe presentation is about the work of Bob’s grandfather\, William C. McCalla\, a noted educator\, photographer and naturalist in Western Canada. He was a school teacher\, but more importantly his passion was collecting and photographing wildflowers. In total\, he donated over 15\,000 pressed flowers to the University of Alberta Herbarium before his death in 1962. He also photographed thousands of wildflowers\, all in black and white\, but for some he constructed hand coloured lantern slides of his photos. He kept journals of his collections and photographs. The presentation will highlight the man and his work with examples from his collecting trips of his photographs and pressed flowers. \nBiography \nPeggy and Bob McCalla are long time Haligonians who came to Nova Scotia in 1975 – Bob to take up a position in the Department of Geography at Saint Mary’s University and Peggy to serve as its first Map Librarian/Cartographer. Both are now retired! Bob is currently Emeritus Professor.  \nPlease note this January meeting is on Wed evening not our normal Tuesday evening!
URL:http://atlanticrhodo.org/event/wildflowers-the-work-of-william-c-mccalla/
LOCATION:Nova Scotia Museum of Natural History\, 1747 Summer St.\, Halifax\, Nova Scotia\, Canada
END:VEVENT
END:VCALENDAR