BEGIN:VCALENDAR
VERSION:2.0
PRODID:-//Atlantic Rhododendron &amp; Horticultural Society - ECPv6.15.20//NONSGML v1.0//EN
CALSCALE:GREGORIAN
METHOD:PUBLISH
X-WR-CALNAME:Atlantic Rhododendron &amp; Horticultural Society
X-ORIGINAL-URL:http://atlanticrhodo.org
X-WR-CALDESC:Events for Atlantic Rhododendron &amp; Horticultural Society
REFRESH-INTERVAL;VALUE=DURATION:PT1H
X-Robots-Tag:noindex
X-PUBLISHED-TTL:PT1H
BEGIN:VTIMEZONE
TZID:America/Halifax
BEGIN:DAYLIGHT
TZOFFSETFROM:-0400
TZOFFSETTO:-0300
TZNAME:ADT
DTSTART:20170312T060000
END:DAYLIGHT
BEGIN:STANDARD
TZOFFSETFROM:-0300
TZOFFSETTO:-0400
TZNAME:AST
DTSTART:20171105T050000
END:STANDARD
BEGIN:DAYLIGHT
TZOFFSETFROM:-0400
TZOFFSETTO:-0300
TZNAME:ADT
DTSTART:20180311T060000
END:DAYLIGHT
BEGIN:STANDARD
TZOFFSETFROM:-0300
TZOFFSETTO:-0400
TZNAME:AST
DTSTART:20181104T050000
END:STANDARD
BEGIN:DAYLIGHT
TZOFFSETFROM:-0400
TZOFFSETTO:-0300
TZNAME:ADT
DTSTART:20190310T060000
END:DAYLIGHT
BEGIN:STANDARD
TZOFFSETFROM:-0300
TZOFFSETTO:-0400
TZNAME:AST
DTSTART:20191103T050000
END:STANDARD
END:VTIMEZONE
BEGIN:VEVENT
DTSTART;TZID=America/Halifax:20180904T193000
DTEND;TZID=America/Halifax:20180904T213000
DTSTAMP:20260420T161955
CREATED:20180408T122211Z
LAST-MODIFIED:20180824T131141Z
UID:1734-1536089400-1536096600@atlanticrhodo.org
SUMMARY:Annual Steele Lecture: Maurice Foster - HYDRANGEAS FOR COLD CLIMATE GARDENS
DESCRIPTION:WORTHY AND NEW HYDRANGEAS FOR COLD CLIMATE GARDENS \nHydrangea expert Maurice Foster will present the Steele Lecture for 2018 with a discussion of new and noteworthy hydrangeas\, including suggestions of cultivars for trial in eastern Canadian gardens. Maurice will show us some choice selections in the hardy species\, arborescens\, paniculata\, and heteromalla. Maurice’s special interest and the focus of this talk will be on the less well-known Japanese and east Asian species called serrata\, the mountain hydrangea\,. These are hardy to at least Zone 6. Also to consider are some forms of aspera and involucrata as well as macrophyllas that can flower on current year wood\, plus non-maritime forms and hybrids that might be worth a try. Add in some of the newly introduced species and some of his own seedlings\, and this will be a talk not to be missed. \nBio— \nMaurice Foster VMH is an amateur gardener who has been a member of the Woody Plants Committee of the RHS for 22 years\, past Chairman of the RHS Rhododendron\, Camellia and Magnolia Group\, a trustee of the Tree Register of Britain and Ireland and a life member of the IDS and the Magnolia Society. He has travelled widely in search of woody plants\, notably in W China and the Himalaya. He opens his 15 acre garden and arboretum to groups by prior arrangement. \n  \nPlease remember to bring your membership dues for the 2018-2019 year – due September of each year! Thanks
URL:http://atlanticrhodo.org/event/annual-steele-lecture-maurice-foster-hydrangeas-for-cold-climate-gardens/
LOCATION:Nova Scotia Museum of Natural History\, 1747 Summer St.\, Halifax\, Nova Scotia\, Canada
CATEGORIES:Speakers
END:VEVENT
END:VCALENDAR