BEGIN:VCALENDAR
VERSION:2.0
PRODID:-//Atlantic Rhododendron &amp; Horticultural Society - ECPv6.15.20//NONSGML v1.0//EN
CALSCALE:GREGORIAN
METHOD:PUBLISH
X-WR-CALNAME:Atlantic Rhododendron &amp; Horticultural Society
X-ORIGINAL-URL:http://atlanticrhodo.org
X-WR-CALDESC:Events for Atlantic Rhododendron &amp; Horticultural Society
REFRESH-INTERVAL;VALUE=DURATION:PT1H
X-Robots-Tag:noindex
X-PUBLISHED-TTL:PT1H
BEGIN:VTIMEZONE
TZID:America/Halifax
BEGIN:DAYLIGHT
TZOFFSETFROM:-0400
TZOFFSETTO:-0300
TZNAME:ADT
DTSTART:20170312T060000
END:DAYLIGHT
BEGIN:STANDARD
TZOFFSETFROM:-0300
TZOFFSETTO:-0400
TZNAME:AST
DTSTART:20171105T050000
END:STANDARD
BEGIN:DAYLIGHT
TZOFFSETFROM:-0400
TZOFFSETTO:-0300
TZNAME:ADT
DTSTART:20180311T060000
END:DAYLIGHT
BEGIN:STANDARD
TZOFFSETFROM:-0300
TZOFFSETTO:-0400
TZNAME:AST
DTSTART:20181104T050000
END:STANDARD
BEGIN:DAYLIGHT
TZOFFSETFROM:-0400
TZOFFSETTO:-0300
TZNAME:ADT
DTSTART:20190310T060000
END:DAYLIGHT
BEGIN:STANDARD
TZOFFSETFROM:-0300
TZOFFSETTO:-0400
TZNAME:AST
DTSTART:20191103T050000
END:STANDARD
END:VTIMEZONE
BEGIN:VEVENT
DTSTART;TZID=America/Halifax:20180403T193000
DTEND;TZID=America/Halifax:20180403T210000
DTSTAMP:20260421T001353
CREATED:20171023T102449Z
LAST-MODIFIED:20171023T102449Z
UID:1626-1522783800-1522789200@atlanticrhodo.org
SUMMARY:Introduction to Ikebana\, The Art of Japanese Flower Arrangement: Miyako Ballesteros
DESCRIPTION:Introduction to Ikebana\, The Art of Japanese Flower Arrangement\, Miyako Ballesteros.  \n \nThis presentation will introduce the basic concepts and structure of anIkebana arrangement followed by live demonstrations showing basic and advanced styles.  Miyako is a qualified instructor in the Sogetsu School of ikebana with a rank of 2nd Grade Jōnin Sanyo\, and is an active teaching member of the Sogetsu Teachers’ Association  Currently\, she teaches ikebana at her studio in Halifax.
URL:http://atlanticrhodo.org/event/introduction-ikebana-art-japanese-flower-arrangement-miyako-ballesteros/
LOCATION:Nova Scotia Museum of Natural History\, 1747 Summer St.\, Halifax\, Nova Scotia\, Canada
CATEGORIES:Speakers
END:VEVENT
END:VCALENDAR