BEGIN:VCALENDAR
VERSION:2.0
PRODID:-//Atlantic Rhododendron &amp; Horticultural Society - ECPv6.15.20//NONSGML v1.0//EN
CALSCALE:GREGORIAN
METHOD:PUBLISH
X-ORIGINAL-URL:http://atlanticrhodo.org
X-WR-CALDESC:Events for Atlantic Rhododendron &amp; Horticultural Society
REFRESH-INTERVAL;VALUE=DURATION:PT1H
X-Robots-Tag:noindex
X-PUBLISHED-TTL:PT1H
BEGIN:VTIMEZONE
TZID:America/Halifax
BEGIN:DAYLIGHT
TZOFFSETFROM:-0400
TZOFFSETTO:-0300
TZNAME:ADT
DTSTART:20170312T060000
END:DAYLIGHT
BEGIN:STANDARD
TZOFFSETFROM:-0300
TZOFFSETTO:-0400
TZNAME:AST
DTSTART:20171105T050000
END:STANDARD
BEGIN:DAYLIGHT
TZOFFSETFROM:-0400
TZOFFSETTO:-0300
TZNAME:ADT
DTSTART:20180311T060000
END:DAYLIGHT
BEGIN:STANDARD
TZOFFSETFROM:-0300
TZOFFSETTO:-0400
TZNAME:AST
DTSTART:20181104T050000
END:STANDARD
BEGIN:DAYLIGHT
TZOFFSETFROM:-0400
TZOFFSETTO:-0300
TZNAME:ADT
DTSTART:20190310T060000
END:DAYLIGHT
BEGIN:STANDARD
TZOFFSETFROM:-0300
TZOFFSETTO:-0400
TZNAME:AST
DTSTART:20191103T050000
END:STANDARD
END:VTIMEZONE
BEGIN:VEVENT
DTSTART;TZID=America/Halifax:20180206T193000
DTEND;TZID=America/Halifax:20180206T210000
DTSTAMP:20260421T031304
CREATED:20171023T101900Z
LAST-MODIFIED:20180408T132515Z
UID:1621-1517945400-1517950800@atlanticrhodo.org
SUMMARY:Revelations and Dreams in my Garden: Dennis Crouse
DESCRIPTION:Dennis will talk on his experiences in his home garden\, gardens he has visited and gardens he has managed. He will talk on how they have all influenced the design and maintenance of his own garden.\n\n \n\nDennis is a member of ARHS. He grew up in the Annapolis Valley and has been gardening in St. Margaret’s Bay for 10 years now.  He is a graduate of the Horticulture & Landscaping program at NSCC Kingstec campus and he has participated in a two week Field School in Ghesc\, Italy through NSCC International. These experiences opened his eyes further to the world of horticulture and the appreciation of plants.  He now works with EarthCraft Landscape as a crew leader focusing on maintenance. \n 
URL:http://atlanticrhodo.org/event/revelations-dreams-garden-dennis-crouse/
LOCATION:Nova Scotia Museum of Natural History\, 1747 Summer St.\, Halifax\, Nova Scotia\, Canada
CATEGORIES:Speakers
END:VEVENT
END:VCALENDAR