BEGIN:VCALENDAR
VERSION:2.0
PRODID:-//Atlantic Rhododendron &amp; Horticultural Society - ECPv6.15.20//NONSGML v1.0//EN
CALSCALE:GREGORIAN
METHOD:PUBLISH
X-ORIGINAL-URL:http://atlanticrhodo.org
X-WR-CALDESC:Events for Atlantic Rhododendron &amp; Horticultural Society
REFRESH-INTERVAL;VALUE=DURATION:PT1H
X-Robots-Tag:noindex
X-PUBLISHED-TTL:PT1H
BEGIN:VTIMEZONE
TZID:America/Halifax
BEGIN:DAYLIGHT
TZOFFSETFROM:-0400
TZOFFSETTO:-0300
TZNAME:ADT
DTSTART:20160313T060000
END:DAYLIGHT
BEGIN:STANDARD
TZOFFSETFROM:-0300
TZOFFSETTO:-0400
TZNAME:AST
DTSTART:20161106T050000
END:STANDARD
BEGIN:DAYLIGHT
TZOFFSETFROM:-0400
TZOFFSETTO:-0300
TZNAME:ADT
DTSTART:20170312T060000
END:DAYLIGHT
BEGIN:STANDARD
TZOFFSETFROM:-0300
TZOFFSETTO:-0400
TZNAME:AST
DTSTART:20171105T050000
END:STANDARD
BEGIN:DAYLIGHT
TZOFFSETFROM:-0400
TZOFFSETTO:-0300
TZNAME:ADT
DTSTART:20180311T060000
END:DAYLIGHT
BEGIN:STANDARD
TZOFFSETFROM:-0300
TZOFFSETTO:-0400
TZNAME:AST
DTSTART:20181104T050000
END:STANDARD
END:VTIMEZONE
BEGIN:VEVENT
DTSTART;TZID=America/Halifax:20170602T130000
DTEND;TZID=America/Halifax:20170604T170000
DTSTAMP:20260421T151213
CREATED:20170416T132153Z
LAST-MODIFIED:20170416T132815Z
UID:1596-1496408400-1496595600@atlanticrhodo.org
SUMMARY:NSAGC Convention 2017
DESCRIPTION:The Nova Scotia Association of Garden Clubs convention is being held at Inverary Inn\, Baddeck Cape Breton this year. Interesting speakers\, door prizes\, Sailboat tour\, hiking and entertainment. \nFor more information see their website: \nhttp://www.nsagc.com/plantsale.htm \nand here: \nhttp://www.nsagc.com/Convention2017Info.pdf \n 
URL:http://atlanticrhodo.org/event/nsagc-convention-2017/
END:VEVENT
BEGIN:VEVENT
DTSTART;TZID=America/Halifax:20170610T080000
DTEND;TZID=America/Halifax:20170610T170000
DTSTAMP:20260421T151213
CREATED:20170523T204314Z
LAST-MODIFIED:20170523T204314Z
UID:1603-1497081600-1497114000@atlanticrhodo.org
SUMMARY:Annual ARHS Garden Tour - Kentville and Canning Area
DESCRIPTION:See your newsletter for details!
URL:http://atlanticrhodo.org/event/annual-arhs-garden-tour-kentville-canning-area/
END:VEVENT
END:VCALENDAR