BEGIN:VCALENDAR
VERSION:2.0
PRODID:-//Atlantic Rhododendron &amp; Horticultural Society - ECPv6.15.20//NONSGML v1.0//EN
CALSCALE:GREGORIAN
METHOD:PUBLISH
X-ORIGINAL-URL:http://atlanticrhodo.org
X-WR-CALDESC:Events for Atlantic Rhododendron &amp; Horticultural Society
REFRESH-INTERVAL;VALUE=DURATION:PT1H
X-Robots-Tag:noindex
X-PUBLISHED-TTL:PT1H
BEGIN:VTIMEZONE
TZID:America/Halifax
BEGIN:DAYLIGHT
TZOFFSETFROM:-0400
TZOFFSETTO:-0300
TZNAME:ADT
DTSTART:20160313T060000
END:DAYLIGHT
BEGIN:STANDARD
TZOFFSETFROM:-0300
TZOFFSETTO:-0400
TZNAME:AST
DTSTART:20161106T050000
END:STANDARD
BEGIN:DAYLIGHT
TZOFFSETFROM:-0400
TZOFFSETTO:-0300
TZNAME:ADT
DTSTART:20170312T060000
END:DAYLIGHT
BEGIN:STANDARD
TZOFFSETFROM:-0300
TZOFFSETTO:-0400
TZNAME:AST
DTSTART:20171105T050000
END:STANDARD
BEGIN:DAYLIGHT
TZOFFSETFROM:-0400
TZOFFSETTO:-0300
TZNAME:ADT
DTSTART:20180311T060000
END:DAYLIGHT
BEGIN:STANDARD
TZOFFSETFROM:-0300
TZOFFSETTO:-0400
TZNAME:AST
DTSTART:20181104T050000
END:STANDARD
END:VTIMEZONE
BEGIN:VEVENT
DTSTART;TZID=America/Halifax:20170227T080000
DTEND;TZID=America/Halifax:20170319T170000
DTSTAMP:20260421T191518
CREATED:20170227T185522Z
LAST-MODIFIED:20170227T185522Z
UID:1540-1488182400-1489942800@atlanticrhodo.org
SUMMARY:2017 Tissue Culture Orders due
DESCRIPTION:All Tissue Culture orders should have been received by Jon Porter by March 19th. \n 
URL:http://atlanticrhodo.org/event/2017-tissue-culture-orders-due/
END:VEVENT
BEGIN:VEVENT
DTSTART;TZID=America/Halifax:20170307T193000
DTEND;TZID=America/Halifax:20170307T213000
DTSTAMP:20260421T191518
CREATED:20160728T021633Z
LAST-MODIFIED:20161207T013933Z
UID:1452-1488915000-1488922200@atlanticrhodo.org
SUMMARY:Making a New Woodland Garden
DESCRIPTION:Roslyn Duffus  will present ‘Making a new woodland garden’. \nRoslyn moved to a new property three and a half years ago with lots more trees.  Her talk is a practical view about starting a new garden that is larger\, with some sun and much shade.  She moved a lot of plants from her former garden and has started planting new areas. Reducing labor and maintenance is an important guideline for her.  She will show images of soil prep\, plant selection and siting\, rock garden making and opening up areas that were densely shaded. \n 
URL:http://atlanticrhodo.org/event/making-new-woodland-garden/
LOCATION:Nova Scotia Museum of Natural History\, 1747 Summer St.\, Halifax\, Nova Scotia\, Canada
END:VEVENT
BEGIN:VEVENT
DTSTART;TZID=America/Halifax:20170326T080000
DTEND;TZID=America/Halifax:20170410T170000
DTSTAMP:20260421T191518
CREATED:20170326T123607Z
LAST-MODIFIED:20170326T123721Z
UID:1569-1490515200-1491843600@atlanticrhodo.org
SUMMARY:Members 2017 pre-ordered plant sale is now open
DESCRIPTION:2017 Members Pre-ordered Plant sale          CLOSED \n \n 
URL:http://atlanticrhodo.org/event/members-2017-pre-ordered-plant-sale-now-open/
CATEGORIES:Plant Sale
END:VEVENT
END:VCALENDAR